BEGIN:VCALENDAR
VERSION:2.0
METHOD:PUBLISH
X-WR-CALNAME:Mercociudades |  October 30 2011- October 30 2011
PRODID:-//strange bird labs//Drupal iCal API//EN
BEGIN:VEVENT
DTSTAMP;VALUE=DATE-TIME:20260420T235955Z
DTSTART;VALUE=DATE-TIME:20111028T162900Z
DTEND;VALUE=DATE-TIME:20020203
UID:http://www.mercociudades.net/pt-br/node/2807
URL;VALUE=URI:http://www.mercociudades.net/pt-br/node/2807
SUMMARY:Foro temático de Juventude
DESCRIPTION:<p>A Unidade Tem&aacute\;tica de Juventude de Mercociudades participa no foro &quot\;Participa&ccedil\;&atilde\;o dos jovens nos processos de conviv&ecirc\;ncia e governabilidade democr&aacute\;tica em Am&eacute\;rica Latina&quot\; a realizar-se em Jes&uacute\;s Mar&iacute\;a Lima\, Peru.</p>
 
END:VEVENT
END:VCALENDAR
